BEGIN:VCALENDAR
VERSION:2.0
PRODID:-//Austin Ascents - ECPv6.15.20//NONSGML v1.0//EN
CALSCALE:GREGORIAN
METHOD:PUBLISH
X-ORIGINAL-URL:https://austinascents.com
X-WR-CALDESC:Events for Austin Ascents
REFRESH-INTERVAL;VALUE=DURATION:PT1H
X-Robots-Tag:noindex
X-PUBLISHED-TTL:PT1H
BEGIN:VTIMEZONE
TZID:America/Chicago
BEGIN:DAYLIGHT
TZOFFSETFROM:-0600
TZOFFSETTO:-0500
TZNAME:CDT
DTSTART:20180311T080000
END:DAYLIGHT
BEGIN:STANDARD
TZOFFSETFROM:-0500
TZOFFSETTO:-0600
TZNAME:CST
DTSTART:20181104T070000
END:STANDARD
BEGIN:DAYLIGHT
TZOFFSETFROM:-0600
TZOFFSETTO:-0500
TZNAME:CDT
DTSTART:20190310T080000
END:DAYLIGHT
BEGIN:STANDARD
TZOFFSETFROM:-0500
TZOFFSETTO:-0600
TZNAME:CST
DTSTART:20191103T070000
END:STANDARD
BEGIN:DAYLIGHT
TZOFFSETFROM:-0600
TZOFFSETTO:-0500
TZNAME:CDT
DTSTART:20200308T080000
END:DAYLIGHT
BEGIN:STANDARD
TZOFFSETFROM:-0500
TZOFFSETTO:-0600
TZNAME:CST
DTSTART:20201101T070000
END:STANDARD
BEGIN:DAYLIGHT
TZOFFSETFROM:-0600
TZOFFSETTO:-0500
TZNAME:CDT
DTSTART:20210314T080000
END:DAYLIGHT
BEGIN:STANDARD
TZOFFSETFROM:-0500
TZOFFSETTO:-0600
TZNAME:CST
DTSTART:20211107T070000
END:STANDARD
END:VTIMEZONE
BEGIN:VEVENT
DTSTART;TZID=America/Chicago:20200303T080000
DTEND;TZID=America/Chicago:20200305T170000
DTSTAMP:20260424T133314
CREATED:20191022T112230Z
LAST-MODIFIED:20191220T154340Z
UID:837-1583222400-1583427600@austinascents.com
SUMMARY:AMGA Climbing Wall Instructor course / exam March 3rd to 5th
DESCRIPTION:Providing AMGA Climbing Wall Instructor courses since 2015\nGetting ready to do a weighted takeover\nThe Climbing Wall Instructor Program\, for professional and recreational indoor climbers\, will improve your skills. Whether you work in the indoor realm or are a recreational climber\, the content of this course will benefit you in many ways. The course helps to improve your skills in managing groups\, teaching skills for clear delivery of the content\, and technical skills to manage your risk.Testimonials \nThe Climbing Wall Instructor Program (CWI) was introduced in 2007 to certify professionals who teach in an indoor or artificial wall environment. It aims to increase the level of professionalism in indoor climbing and to improve the level of climbing wall instruction\, to develop a more consistent standard of care for climbing instructors in the US\, to evaluate the skills of climbing instructors in the US\, and to provide guidance for further professional development. There are two certification levels: \n\nAMGA CWI Top Rope\nAMGA CWI Lead\n\nThis course addresses the basic technical skills necessary to manage an instructional program at a climbing facility. The course length is a minimum of 20 hours of instruction\, skills demonstration\, and evaluation\, typically run over 2.5 days. Certification and AMGA membership lasts for three years. After three years current CWI’s can re-take a one-day reassessment to regain the CWI certification. \n\nRefund Policy: When you book your trip please note the refund policy:\nIf you cancel 2 weeks before your trip date a 50% of the amount is refunded.\nIf you cancel 1 week before your trip there will be NO refund and you forfeit the full amount.\nIf we cancel you receive your refund minus a credit card service fee of $25.00.
URL:https://austinascents.com/event/amga-climbing-wall-instructor-course-exam-march-3th-to-5th/
LOCATION:bentonville arkansas\, 801 South 14th st\, Bentonville\, 72712\, United States
CATEGORIES:PCIA CWI Course and Exam
ORGANIZER;CN="Austin Ascents":MAILTO:austinascents@gmail.com
END:VEVENT
BEGIN:VEVENT
DTSTART;TZID=America/Chicago:20191008T080000
DTEND;TZID=America/Chicago:20191010T170000
DTSTAMP:20260424T133314
CREATED:20190507T133643Z
LAST-MODIFIED:20191022T112445Z
UID:513-1570521600-1570726800@austinascents.com
SUMMARY:AMGA Climbing Wall Instructor course / exam October 8th to 10th
DESCRIPTION:The Climbing Wall Instructor Program\, for professional and recreational indoor climbers\, will improve your skills. Whether you work in the indoor realm or are a recreational climber\, the content of this course will benefit you in many ways. The course helps to improve your skills of managing groups\, teaching skills for clear delivery of the content\, and technical skills to manage your risk. \nThe Climbing Wall Instructor Program (CWI) was introduced in 2007 to certify professionals who teach in an indoor or artificial wall environment. It aims to increase the level of professionalism in indoor climbing and to improve the level of climbing wall instruction\, to develop a more consistent standard of care for climbing instructors in the US\, to evaluate the skills of climbing instructors in the US\, and to provide guidance for further professional development. There are two certification levels: \n\nAMGA CWI Top Rope\nAMGA CWI Lead\n\nThis course addresses the basic technical skills necessary to manage an instructional program at a climbing facility. The course length is a minimum of 20 hours of instruction\, skills demonstration\, and evaluation\, typically run over 2.5 days. Certification and AMGA membership lasts for three years. After three years current CWI’s can re-take a one-day reassessment to regain the CWI certification. \n\nRefund Policy: When you book your trip please note the refund policy:\nIf you cancel 2 weeks before your trip date a 50% of the amount is refunded.\nIf you cancel 1 week before your trip there will be NO refund and you forfeit the full amount.\nIf we cancel you receive your refund minus a credit card service fee of $25.00.
URL:https://austinascents.com/event/amga-climbing-wall-instructor-course-exam/
LOCATION:bentonville arkansas\, 801 South 14th st\, Bentonville\, 72712\, United States
CATEGORIES:PCIA CWI Course and Exam
ATTACH;FMTTYPE=image/jpeg:https://austinascents.com/wp-content/uploads/2018/08/IMG_1338-e1553893576692.jpg
END:VEVENT
BEGIN:VEVENT
DTSTART;TZID=America/Chicago:20190423T100000
DTEND;TZID=America/Chicago:20190425T170000
DTSTAMP:20260424T133314
CREATED:20190325T142706Z
LAST-MODIFIED:20190329T200631Z
UID:392-1556013600-1556211600@austinascents.com
SUMMARY:Climbing Wall Instructor certification
DESCRIPTION:Go to this link to see course offerings; https://amga.com/amga-course-schedules/ \nThe Climbing Wall Instructor Program\, for professional and recreational indoor climbers\, will improve your skills. Whether you work in the indoor realm or are a recreational climber\, the content of this course will benefit you in many ways. The course helps to improve your skills of managing groups\, teaching skills for clear delivery of the content\, and technical skills to manage your risk. \nThe Climbing Wall Instructor Program (CWI) was introduced in 2007 to certify professionals who teach in an indoor or artificial wall environment. It aims to increase the level of professionalism in indoor climbing and to improve the level of climbing wall instruction\, to develop a more consistent standard of care for climbing instructors in the US\, to evaluate the skills of climbing instructors in the US\, and to provide guidance for further professional development. There are two certification levels: \n\nAMGA CWI Top Rope\nAMGA CWI Lead\n\nThis course addresses the basic technical skills necessary to manage an instructional program at a climbing facility. The course length is a minimum of 20 hours of instruction\, skills demonstration\, and evaluation\, typically run over 2.5 days. Certification and AMGA membership lasts for three years. After three years current CWI’s can re-take a one-day reassessment to regain the CWI certification.
URL:https://austinascents.com/event/climbing-wall-instructor-certification-2/
LOCATION:bentonville arkansas\, 801 South 14th st\, Bentonville\, 72712\, United States
CATEGORIES:PCIA CWI Course and Exam
ATTACH;FMTTYPE=image/jpeg:https://austinascents.com/wp-content/uploads/2018/08/IMG_1338-e1553893576692.jpg
ORGANIZER;CN="Randy Judycki":MAILTO:austinascents@gmail.com
END:VEVENT
END:VCALENDAR